BEGIN:VCALENDAR
VERSION:2.0
PRODID:-//Leadership Santa Rosa Alumni Association - ECPv6.15.16//NONSGML v1.0//EN
CALSCALE:GREGORIAN
METHOD:PUBLISH
X-ORIGINAL-URL:https://lsraa.org
X-WR-CALDESC:Events for Leadership Santa Rosa Alumni Association
REFRESH-INTERVAL;VALUE=DURATION:PT1H
X-Robots-Tag:noindex
X-PUBLISHED-TTL:PT1H
BEGIN:VTIMEZONE
TZID:America/Los_Angeles
BEGIN:DAYLIGHT
TZOFFSETFROM:-0800
TZOFFSETTO:-0700
TZNAME:PDT
DTSTART:20240310T100000
END:DAYLIGHT
BEGIN:STANDARD
TZOFFSETFROM:-0700
TZOFFSETTO:-0800
TZNAME:PST
DTSTART:20241103T090000
END:STANDARD
BEGIN:DAYLIGHT
TZOFFSETFROM:-0800
TZOFFSETTO:-0700
TZNAME:PDT
DTSTART:20250309T100000
END:DAYLIGHT
BEGIN:STANDARD
TZOFFSETFROM:-0700
TZOFFSETTO:-0800
TZNAME:PST
DTSTART:20251102T090000
END:STANDARD
BEGIN:DAYLIGHT
TZOFFSETFROM:-0800
TZOFFSETTO:-0700
TZNAME:PDT
DTSTART:20260308T100000
END:DAYLIGHT
BEGIN:STANDARD
TZOFFSETFROM:-0700
TZOFFSETTO:-0800
TZNAME:PST
DTSTART:20261101T090000
END:STANDARD
END:VTIMEZONE
BEGIN:VEVENT
DTSTART;TZID=America/Los_Angeles:20251016T173000
DTEND;TZID=America/Los_Angeles:20251016T210000
DTSTAMP:20260424T181126
CREATED:20250902T234256Z
LAST-MODIFIED:20250922T201402Z
UID:2769-1760635800-1760648400@lsraa.org
SUMMARY:LSRAA Autumn Soiree & Fundraiser
DESCRIPTION:Join us and celebrate another successful year of LSR with our Autumn Soiree! It’s guaranteed to be a memorable night where you’ll enjoy reconnecting with LSR alumni\, delight in an amazing menu*\, sip on wine\, and have the opportunity to bid on awesome prizes…all while raising funds for LSR scholarships. \nOf course\, there’ll be prizes and bragging rights for the class with the highest attendance! We’re also asking for each class to bring a Class Basket** for the “don’t call it a raffle” drawing/silent auction. Did we mention that these help raise funds for scholarships? \nFun fact: since the last time we held a fundraising event (two LSR classes ago)\, LSRAA has awarded $6\,700 in scholarships to help some amazing people participate in the LSR program! \nWant to be a hero? Personal\, small business and corporate sponsorships are available for this event too! And guess where the money goes? That’s right! To LSR scholarships! \nGet your tickets or secure a sponsorship at https://www.mynorthbaytickets.com/e/lsraa-autumn-soiree \n  \n*What about food & bev? There will be a fancy\, fancy catered buffet dinner with complimentary wine\, beer\, soda\, and water. More details to come. \n**What’s the deal with the Class Baskets? It’s an LSRAA tradition! Collude with classmates to pitch in prizes as a group fundraiser. Ideas include (but not limited to) some tasty\, expensive wine; that spa day certificate you haven’t used; those concert tickets or that vacation package you won at your last fundraiser event! Get creative and assemble a cache that would tempt the socks off your most well-behaved acquaintance! (Note that drawing tickets will be $20 each\, so make the baskets healthy.)
URL:https://lsraa.org/event/lsraa-autumn-soiree-fundraiser/
LOCATION:Iron & Vine at Bennett Valley Golf Course\, 3330 Yulupa Avenue\, Ste A\, Santa Rosa\, CA\, 95405\, United States
ATTACH;FMTTYPE=image/jpeg:https://lsraa.org/wp-content/uploads/2021/02/75610648_10156235304470938_3015197346804793344_o.jpg
END:VEVENT
END:VCALENDAR