BEGIN:VCALENDAR
VERSION:2.0
PRODID:-//Leadership Santa Rosa Alumni Association - ECPv6.15.16//NONSGML v1.0//EN
CALSCALE:GREGORIAN
METHOD:PUBLISH
X-WR-CALNAME:Leadership Santa Rosa Alumni Association
X-ORIGINAL-URL:https://lsraa.org
X-WR-CALDESC:Events for Leadership Santa Rosa Alumni Association
REFRESH-INTERVAL;VALUE=DURATION:PT1H
X-Robots-Tag:noindex
X-PUBLISHED-TTL:PT1H
BEGIN:VTIMEZONE
TZID:America/Los_Angeles
BEGIN:DAYLIGHT
TZOFFSETFROM:-0800
TZOFFSETTO:-0700
TZNAME:PDT
DTSTART:20230312T100000
END:DAYLIGHT
BEGIN:STANDARD
TZOFFSETFROM:-0700
TZOFFSETTO:-0800
TZNAME:PST
DTSTART:20231105T090000
END:STANDARD
BEGIN:DAYLIGHT
TZOFFSETFROM:-0800
TZOFFSETTO:-0700
TZNAME:PDT
DTSTART:20240310T100000
END:DAYLIGHT
BEGIN:STANDARD
TZOFFSETFROM:-0700
TZOFFSETTO:-0800
TZNAME:PST
DTSTART:20241103T090000
END:STANDARD
BEGIN:DAYLIGHT
TZOFFSETFROM:-0800
TZOFFSETTO:-0700
TZNAME:PDT
DTSTART:20250309T100000
END:DAYLIGHT
BEGIN:STANDARD
TZOFFSETFROM:-0700
TZOFFSETTO:-0800
TZNAME:PST
DTSTART:20251102T090000
END:STANDARD
END:VTIMEZONE
BEGIN:VEVENT
DTSTART;TZID=America/Los_Angeles:20240826T170000
DTEND;TZID=America/Los_Angeles:20240826T190000
DTSTAMP:20260425T153013
CREATED:20240827T184725Z
LAST-MODIFIED:20240827T184725Z
UID:2588-1724691600-1724698800@lsraa.org
SUMMARY:Almost Autumn Alumni Mixer at the 2024 LSR Info Meeting
DESCRIPTION:We’re doing it again! Calling upon your collegial conversation as we convivially court Class 41 candidates at the Almost Autumn Alumni Mixer at the 2024 LSR Info Meeting!\n\nIn other words\, join us to talk with prospects for LSR Class 41\, sharing your insights on the LSR experience and the value of this amazing program.\n\nAnd\, of course\, it wouldn’t be an LSRAA shindig without some choice beverages\, light appetizers\, and catching up with other alumni. So there’s that…but anyway…what was I saying? Oh yeah…\n\nKnow a good candidate for Class 41? Be sure to invite them (and have them RSVP) to the August 26 LSR Info Meeting! (Note that the Class 41 candidate info meeting starts right at 5:00pm.)\n\nMore info at https://www.santarosametrochamber.com/…/2024-lsr-info…/
URL:https://lsraa.org/event/almost-autumn-alumni-mixer-at-the-2024-lsr-info-meeting/
LOCATION:Children’s Museum of Sonoma County\, 1835 W Steele Ln\, Santa Rosa\, 95403\, United States
ATTACH;FMTTYPE=image/jpeg:https://lsraa.org/wp-content/uploads/2024/08/455693350_920108546813659_6620770157808080485_n.jpg
END:VEVENT
END:VCALENDAR