BEGIN:VCALENDAR
VERSION:2.0
PRODID:-//Leadership Santa Rosa Alumni Association - ECPv6.15.16//NONSGML v1.0//EN
CALSCALE:GREGORIAN
METHOD:PUBLISH
X-ORIGINAL-URL:https://lsraa.org
X-WR-CALDESC:Events for Leadership Santa Rosa Alumni Association
REFRESH-INTERVAL;VALUE=DURATION:PT1H
X-Robots-Tag:noindex
X-PUBLISHED-TTL:PT1H
BEGIN:VTIMEZONE
TZID:America/Los_Angeles
BEGIN:DAYLIGHT
TZOFFSETFROM:-0800
TZOFFSETTO:-0700
TZNAME:PDT
DTSTART:20110313T100000
END:DAYLIGHT
BEGIN:STANDARD
TZOFFSETFROM:-0700
TZOFFSETTO:-0800
TZNAME:PST
DTSTART:20111106T090000
END:STANDARD
BEGIN:DAYLIGHT
TZOFFSETFROM:-0800
TZOFFSETTO:-0700
TZNAME:PDT
DTSTART:20120311T100000
END:DAYLIGHT
BEGIN:STANDARD
TZOFFSETFROM:-0700
TZOFFSETTO:-0800
TZNAME:PST
DTSTART:20121104T090000
END:STANDARD
BEGIN:DAYLIGHT
TZOFFSETFROM:-0800
TZOFFSETTO:-0700
TZNAME:PDT
DTSTART:20130310T100000
END:DAYLIGHT
BEGIN:STANDARD
TZOFFSETFROM:-0700
TZOFFSETTO:-0800
TZNAME:PST
DTSTART:20131103T090000
END:STANDARD
BEGIN:DAYLIGHT
TZOFFSETFROM:-0800
TZOFFSETTO:-0700
TZNAME:PDT
DTSTART:20140309T100000
END:DAYLIGHT
BEGIN:STANDARD
TZOFFSETFROM:-0700
TZOFFSETTO:-0800
TZNAME:PST
DTSTART:20141102T090000
END:STANDARD
END:VTIMEZONE
BEGIN:VEVENT
DTSTART;TZID=America/Los_Angeles:20130417T170000
DTEND;TZID=America/Los_Angeles:20130417T190059
DTSTAMP:20260424T132701
CREATED:20130412T160138Z
LAST-MODIFIED:20130412T160223Z
UID:1431-1366218000-1366225259@lsraa.org
SUMMARY:Social Hour April 2013
DESCRIPTION:Come join us for an informal LSRAA social at Station1870 in Railroad Square. For $10/person (pay at the door) each person will get a glass of wine/beer and appetizers. Additional glasses bottles at a special price. They are home to Fritz\, Jenner\, other local wines and numerous reasonable imported ones. \nThe applications for Class XXX are available (we’ll have some at the event) and this is a great opportunity to invite those that you think would be excellent additions to our LSR family! \nCome have fun with us!
URL:https://lsraa.org/event/social-hour-april-2013/
LOCATION:Station 1870\, 123 Fourth Street\, Santa Rosa\, CA\, 95404\, United States
CATEGORIES:Social Happy Hour
END:VEVENT
BEGIN:VEVENT
DTSTART;TZID=America/Los_Angeles:20130116T173000
DTEND;TZID=America/Los_Angeles:20130116T203059
DTSTAMP:20260424T132701
CREATED:20121222T004342Z
LAST-MODIFIED:20130112T010606Z
UID:1388-1358357400-1358368259@lsraa.org
SUMMARY:New Year Blast 2013
DESCRIPTION:This is NOT your average LSRAA event!\nJoin us for our New Year Blast 2013\n\nLove to dance?  Enjoy a salsa demonstration\, lesson\, & dancing. \nDon’t dance? Don’t worry! Enjoy the food\, drinks\, & LSR friends. Come celebrate with us!!! \n\nWe are having a spicy salsa demonstration by Santa Rosa Salsa at our LSRAA New Year Blast! If you are feeling hot under the collar\, you can join in on the lesson\, and dance for fun afterwards. Since dancing is an optional activity\, the cool cucumbers can sit\, mingle\, nibble on appetizers and enjoy the LSR family that grows larger every year. We are also having a mystery raffle! \nBring your partner\, friends\, or great LSR candidates and come have fun with us when the holiday haze clears. Happy New Year! \nBuy your tickets today! \n$25 Members\n$35 Non-Members and Guests\n$40 At the Door \nNew Year Blast Flyer for Printing \n\n\n\n\n \n\n\nTicket\n\n\nLSRAA Member $25.00 USDNon Member/Guest $35.00 USD
URL:https://lsraa.org/event/new-year-blast2013/
LOCATION:Society Culture House\, 528 Seventh Street\, Santa Rosa\, CA\, 95401\, United States
CATEGORIES:Annual Event
ORGANIZER;CN="LSRAA":MAILTO:president@lsraa.org
END:VEVENT
BEGIN:VEVENT
DTSTART;TZID=America/Los_Angeles:20121023T120000
DTEND;TZID=America/Los_Angeles:20121023T133059
DTSTAMP:20260424T132701
CREATED:20120830T180238Z
LAST-MODIFIED:20120924T152952Z
UID:1273-1350993600-1350999059@lsraa.org
SUMMARY:State of the City and County 2012
DESCRIPTION:A Conversation with LSR Grads Running for Office \nTake the opportunity to hear from the candidates and tell them the issues that are important to you! \nCandidates* for Santa Rosa City Council:\nSanta Rosa Mayor\, Ernesto Olivares\nHans Dippel\nDon Taylor \nCandidates* for Sonoma County Supervisor:\nSusan Gorin\nJohn Sawyer \nCandidate* for Santa Rosa City School Board:\nBrian Noble \n*This is not an endorsement. These are LSR grads that are attending our event. \n\nLSRAA members $15\, Non-members & guests $25. At door price $30. \nPrice includes a lovely box lunch and a beverage. \nYou may also RSVP \, then pay at the door\, by emailing president@lsraa.org (or by mail with the State of the City flier) with the number of people who will attend\, their names and\, if applicable\, their LSR class numbers. \n\n\nParticipants who don’t RSVP/pay in advance will be admitted at door\, cost is $30\, and there is no guarantee a lunch will be available. \n\n\n\nA special thanks to Chop’s Teen Club for the donation of their space. \nTake a tour of the facility after the conversations wrap up. \n \n  \n\n\n\nTicket\n\n\nLSRAA Member $15.00 USDNon Member or Guest $25.00 USD
URL:https://lsraa.org/event/lsraastateofcity2012/
LOCATION:Chops Teen Club\, 509 Adams Street\, Santa Rosa\, CA\, 95401\, United States
ORGANIZER;CN="Leadership Santa Rosa Alumni Association":MAILTO:president@lsraa.org
END:VEVENT
BEGIN:VEVENT
DTSTART;TZID=America/Los_Angeles:20120919T173000
DTEND;TZID=America/Los_Angeles:20120919T193059
DTSTAMP:20260424T132701
CREATED:20120904T203349Z
LAST-MODIFIED:20120904T203349Z
UID:1320-1348075800-1348083059@lsraa.org
SUMMARY:September Social Hour
DESCRIPTION:Join other LSR alums for a fun and lively happy hour at Heritage Public House! \nWe expect to have a great time and it’ll be even better if you come!
URL:https://lsraa.org/event/september-social-hour/
LOCATION:Heritage Public House\, 1305 Cleveland Ave.\, Santa Rosa\, CA\, 95401\, United States
CATEGORIES:Social Happy Hour
END:VEVENT
END:VCALENDAR