BEGIN:VCALENDAR
VERSION:2.0
PRODID:-//Leadership Santa Rosa Alumni Association - ECPv6.15.16//NONSGML v1.0//EN
CALSCALE:GREGORIAN
METHOD:PUBLISH
X-WR-CALNAME:Leadership Santa Rosa Alumni Association
X-ORIGINAL-URL:https://lsraa.org
X-WR-CALDESC:Events for Leadership Santa Rosa Alumni Association
REFRESH-INTERVAL;VALUE=DURATION:PT1H
X-Robots-Tag:noindex
X-PUBLISHED-TTL:PT1H
BEGIN:VTIMEZONE
TZID:America/Los_Angeles
BEGIN:DAYLIGHT
TZOFFSETFROM:-0800
TZOFFSETTO:-0700
TZNAME:PDT
DTSTART:20110313T100000
END:DAYLIGHT
BEGIN:STANDARD
TZOFFSETFROM:-0700
TZOFFSETTO:-0800
TZNAME:PST
DTSTART:20111106T090000
END:STANDARD
BEGIN:DAYLIGHT
TZOFFSETFROM:-0800
TZOFFSETTO:-0700
TZNAME:PDT
DTSTART:20120311T100000
END:DAYLIGHT
BEGIN:STANDARD
TZOFFSETFROM:-0700
TZOFFSETTO:-0800
TZNAME:PST
DTSTART:20121104T090000
END:STANDARD
BEGIN:DAYLIGHT
TZOFFSETFROM:-0800
TZOFFSETTO:-0700
TZNAME:PDT
DTSTART:20130310T100000
END:DAYLIGHT
BEGIN:STANDARD
TZOFFSETFROM:-0700
TZOFFSETTO:-0800
TZNAME:PST
DTSTART:20131103T090000
END:STANDARD
BEGIN:DAYLIGHT
TZOFFSETFROM:-0800
TZOFFSETTO:-0700
TZNAME:PDT
DTSTART:20140309T100000
END:DAYLIGHT
BEGIN:STANDARD
TZOFFSETFROM:-0700
TZOFFSETTO:-0800
TZNAME:PST
DTSTART:20141102T090000
END:STANDARD
BEGIN:DAYLIGHT
TZOFFSETFROM:-0800
TZOFFSETTO:-0700
TZNAME:PDT
DTSTART:20150308T100000
END:DAYLIGHT
BEGIN:STANDARD
TZOFFSETFROM:-0700
TZOFFSETTO:-0800
TZNAME:PST
DTSTART:20151101T090000
END:STANDARD
BEGIN:DAYLIGHT
TZOFFSETFROM:-0800
TZOFFSETTO:-0700
TZNAME:PDT
DTSTART:20160313T100000
END:DAYLIGHT
BEGIN:STANDARD
TZOFFSETFROM:-0700
TZOFFSETTO:-0800
TZNAME:PST
DTSTART:20161106T090000
END:STANDARD
END:VTIMEZONE
BEGIN:VEVENT
DTSTART;TZID=America/Los_Angeles:20150617T170000
DTEND;TZID=America/Los_Angeles:20150617T203000
DTSTAMP:20260425T091118
CREATED:20150521T175735Z
LAST-MODIFIED:20150521T175735Z
UID:1663-1434560400-1434573000@lsraa.org
SUMMARY:2015 Annual LSRAA BBQ
DESCRIPTION:Join us for the 2015 Annual LSRAA BBQ at the Wells Fargo Center for the Arts Pavillion. \nBring a bottle of wine to share and a raffle item! \nBuy your tickets online at http://lsraa2015bbq.brownpapertickets.com/ \nSee you there!
URL:https://lsraa.org/event/2015-annual-lsraa-bbq/
LOCATION:Wells Fargo Center for the Arts\, 50 Mark West Springs Road\, Santa Rosa\, CA\, 95403\, United States
CATEGORIES:Annual Event
ORGANIZER;CN="Leadership Santa Rosa Alumni Association":MAILTO:president@lsraa.org
END:VEVENT
BEGIN:VEVENT
DTSTART;TZID=America/Los_Angeles:20140618T170000
DTEND;TZID=America/Los_Angeles:20140618T200059
DTSTAMP:20260425T091118
CREATED:20140522T160010Z
LAST-MODIFIED:20140522T163341Z
UID:1046-1403110800-1403121659@lsraa.org
SUMMARY:It's BBQ Time!
DESCRIPTION:It’s that wonderful time of year again! It’s time to get outside\, enjoy the weather\, your friends\, meet other fellow grad\, win some raffle prizes and taste some wonderful food and wine. We plan on having another great event and hope that you can join us. Remember\, we are doing this not only to have a great time but to fundraise for LSR and TLT. \nNew venue this year! Join us at the beautiful Balletto Winery on Occidental Road in Santa Rosa.  The private chef at Balletto will be doing all the cooking and pairing the BBQ with their terrific wines! \n$50 for LSRAA current active members and their guest \n$60 for LSR grads and guests who are not members of LSRAA \n$90 for LSR Grads includes LSRAA Membership for 2014 (Active LSRAA members can renew using this option as well.) \nPlease purchase your tickets and/or update your membership on the BPT link below. \nRSVP to Wendy Young exec@aiare.org or via phone at (707) 838-2672 to pay by cash/check/credit card at the door. \nPlease work with your class to create an LSRAA basket for the raffle!  This year we will make it easier than ever to make your class raffle basket!  We will have baskets at the event for you to drop your donated item into when you arrive!  (Wine\, gift cards\, vacation rentals\, summer picnic items\, luxury personal items\, etc.)   Once all the items have been added to the baskets\, they will be raffled off!  Please bring an item to add to your class basket.  If your class wants to create their basket before the event\, that is terrific too!   Just let us know and we won’t bring a basket for you. \nBuy Tickets to the LSRAA 2014 BBQ \n  \n[divider ][space height=”25″] \n \nBrown Paper Tickets Ticket Widget Loading…Click Here to visit the Brown Paper Tickets event page. \n  \n\n\nSponsored by: \n  \n \n  \n 
URL:https://lsraa.org/event/its-bbq-time/
LOCATION:Balletto Winery\, 5700 Occidental Road\, Santa Rosa\, CA\, 95401\, United States
CATEGORIES:Annual Event
ATTACH;FMTTYPE=image/png:https://lsraa.org/wp-content/uploads/2012/04/bbq200914.png
ORGANIZER;CN="Leadership Santa Rosa":MAILTO:communications@lsraa.org
END:VEVENT
BEGIN:VEVENT
DTSTART;TZID=America/Los_Angeles:20140327T113000
DTEND;TZID=America/Los_Angeles:20140327T130059
DTSTAMP:20260425T091118
CREATED:20140306T195945Z
LAST-MODIFIED:20140307T040547Z
UID:1555-1395919800-1395925259@lsraa.org
SUMMARY:State of Sonoma’s Power Options
DESCRIPTION:Join LSRAA for a forum to explore which Local Power Provider Will Work Best For You & Your Business. \nFeaturing Geof Syphers of Sonoma Clean Power and a presentation from PG&E\, this luncheon will provide the opportunity to learn more and ask questions about your energy options. \n  \nInformational Luncheon March 27th 11:30am – 1:00pm \nDoors open at 11:30am \, discussion starts promptly at noon. \n$20 includes Box Lunch (LSRAA Member Price) / $30 includes Box Lunch (Non-Member Price) \n  \n\n\n \n\n\nTickets\n\n\nLSRAA Member $20.00 USDNon-Member $30.00 USD
URL:https://lsraa.org/event/state-of-sonomas-power-options/
LOCATION:North Coast Builder’s Exchange\, 1030 Apollo Way\, Santa Rosa\, CA\, 95403\, United States
CATEGORIES:Educational
END:VEVENT
BEGIN:VEVENT
DTSTART;TZID=America/Los_Angeles:20140305T160000
DTEND;TZID=America/Los_Angeles:20140305T180059
DTSTAMP:20260425T091118
CREATED:20140225T224322Z
LAST-MODIFIED:20140225T224347Z
UID:1548-1394035200-1394042459@lsraa.org
SUMMARY:ReStore Tour
DESCRIPTION:  \nPlease join us for an educational event at ReStore Habitat for Humanity of Sonoma County to learn more about sustainability in building and construction. Learn about this amazing resource\, how you can save money on construction costs\, and mix and mingle with fellow graduates.
URL:https://lsraa.org/event/restore-tour/
LOCATION:ReStore Habitat for Humanity of Sonoma County\, 1201 Piner Road #500\, Santa Rosa\, CA\, 95403\, United States
CATEGORIES:Educational
END:VEVENT
BEGIN:VEVENT
DTSTART;TZID=America/Los_Angeles:20140122T173000
DTEND;TZID=America/Los_Angeles:20140122T200059
DTSTAMP:20260425T091118
CREATED:20140113T184658Z
LAST-MODIFIED:20140113T185110Z
UID:1537-1390411800-1390420859@lsraa.org
SUMMARY:New Year Wild Western Bash
DESCRIPTION:Join your fellow cowboys and cowgirls of LSRAA for a root in’ tooting’ good time! Our New Year Wild Western Bash is coming up! \n\n\n \n\n\nTicket\n\n\nLSRAA Member $25.00 USDNon Member/Guest $35.00 USD
URL:https://lsraa.org/event/new-year-wild-western-bash/
LOCATION:North Coast Builders Exchange\, 1030 Apollo Way\, Santa Rosa\, CA\, 95407\, United States
CATEGORIES:Annual Event
END:VEVENT
BEGIN:VEVENT
DTSTART;TZID=America/Los_Angeles:20130619T170000
DTEND;TZID=America/Los_Angeles:20130619T200059
DTSTAMP:20260425T091118
CREATED:20130408T223936Z
LAST-MODIFIED:20130613T234935Z
UID:1426-1371661200-1371672059@lsraa.org
SUMMARY:BBQ Celebration 2013
DESCRIPTION:Summertime is almost here! It’s time to get outside\, enjoy the weather\, your friends\, meet other fellow grads\, win some raffle prizes\, fundraise for LSR and TLT scholarships\, and taste some wonderful food and wine. We plan on having another great event as LSR enters it’s 30th year! Bragging rights for best class raffle basket as well as most represented class will bring prizes and glory! We hope that you can join us. \nPlease consider sponsoring this event as we are the only source of scholarships for LSR. Your organization will receive recognition in our newsletter\, on our website\, on our social media channels as well as at the event itself.\nSponsor Packages BBQ 2013 \n$30 for LSRAA members\n$40 for LSR grads and guests\nPayments are accepted here or by cash/check/credit card at the door.\nPlease bring a bottle(s) of wine or beer to share with your table. \n*Please no tobacco products on the grounds. \nDownload flier here: BBQ Flier 2013 . \nOR pay via credit card by filling out the information below. \n[divider ][space height=”25″] \n\n\n\n                \n                        Step 1: Your NameName*\n                                    \n                                Step 2: Select TicketsLSRAA Member ($30)\n					\n					\n						Price:\n							\n					\n					\n				Quantity012345678910[divider]LSR Alum or Guest ($40)\n					\n					\n						Price:\n							\n					\n					\n				Quantity012345678910Step 3: Add Scholarship DonationWould you like to add a scholarship donation?No ($0)Friend ($100)Silver ($200)Gold ($500)Platinum ($1000)Total\n							$0.00\n							\n						Step 4: Make Payment\n          \n            \n            \n            \n            \n            \n            \n            \n            \n            \n            \n            \n            \n            \n        \n                        Δ \n                        \n\nSponsored by: \n   
URL:https://lsraa.org/event/bbq-celebration-2013/
LOCATION:Richard’s Grove and Saralee’s Vineyard\, 3575 Slusser Road\, Windsor\, CA\, United States
CATEGORIES:Annual Event
END:VEVENT
BEGIN:VEVENT
DTSTART;TZID=America/Los_Angeles:20130424T170000
DTEND;TZID=America/Los_Angeles:20130424T180059
DTSTAMP:20260425T091118
CREATED:20130412T204434Z
LAST-MODIFIED:20130412T204434Z
UID:1442-1366822800-1366826459@lsraa.org
SUMMARY:LSR Class 30 Informational Reception
DESCRIPTION:Curious about Leadership Santa Rosa? Join us on Wednesday\, April 24th from 5:00 – 6:00 pm at the Chamber. You will hear from past participants and get a general overview of the program. Applications are available here. \nPlease RSVP your attendance by April 18th to janetr@santarosachamber.com. \nFor a general overview of the LSR program\, visit the Leadership Santa Rosa page.
URL:https://lsraa.org/event/lsr-class-30-informational-reception/
LOCATION:Santa Rosa Chamber of Commerce\, 1260 North Dutton Ave. Suite 272\, Santa Rosa\, CA\, 95401\, United States
CATEGORIES:Annual Event
END:VEVENT
BEGIN:VEVENT
DTSTART;TZID=America/Los_Angeles:20130417T170000
DTEND;TZID=America/Los_Angeles:20130417T190059
DTSTAMP:20260425T091118
CREATED:20130412T160138Z
LAST-MODIFIED:20130412T160223Z
UID:1431-1366218000-1366225259@lsraa.org
SUMMARY:Social Hour April 2013
DESCRIPTION:Come join us for an informal LSRAA social at Station1870 in Railroad Square. For $10/person (pay at the door) each person will get a glass of wine/beer and appetizers. Additional glasses bottles at a special price. They are home to Fritz\, Jenner\, other local wines and numerous reasonable imported ones. \nThe applications for Class XXX are available (we’ll have some at the event) and this is a great opportunity to invite those that you think would be excellent additions to our LSR family! \nCome have fun with us!
URL:https://lsraa.org/event/social-hour-april-2013/
LOCATION:Station 1870\, 123 Fourth Street\, Santa Rosa\, CA\, 95404\, United States
CATEGORIES:Social Happy Hour
END:VEVENT
BEGIN:VEVENT
DTSTART;TZID=America/Los_Angeles:20130116T173000
DTEND;TZID=America/Los_Angeles:20130116T203059
DTSTAMP:20260425T091118
CREATED:20121222T004342Z
LAST-MODIFIED:20130112T010606Z
UID:1388-1358357400-1358368259@lsraa.org
SUMMARY:New Year Blast 2013
DESCRIPTION:This is NOT your average LSRAA event!\nJoin us for our New Year Blast 2013\n\nLove to dance?  Enjoy a salsa demonstration\, lesson\, & dancing. \nDon’t dance? Don’t worry! Enjoy the food\, drinks\, & LSR friends. Come celebrate with us!!! \n\nWe are having a spicy salsa demonstration by Santa Rosa Salsa at our LSRAA New Year Blast! If you are feeling hot under the collar\, you can join in on the lesson\, and dance for fun afterwards. Since dancing is an optional activity\, the cool cucumbers can sit\, mingle\, nibble on appetizers and enjoy the LSR family that grows larger every year. We are also having a mystery raffle! \nBring your partner\, friends\, or great LSR candidates and come have fun with us when the holiday haze clears. Happy New Year! \nBuy your tickets today! \n$25 Members\n$35 Non-Members and Guests\n$40 At the Door \nNew Year Blast Flyer for Printing \n\n\n\n\n \n\n\nTicket\n\n\nLSRAA Member $25.00 USDNon Member/Guest $35.00 USD
URL:https://lsraa.org/event/new-year-blast2013/
LOCATION:Society Culture House\, 528 Seventh Street\, Santa Rosa\, CA\, 95401\, United States
CATEGORIES:Annual Event
ORGANIZER;CN="LSRAA":MAILTO:president@lsraa.org
END:VEVENT
BEGIN:VEVENT
DTSTART;TZID=America/Los_Angeles:20121023T120000
DTEND;TZID=America/Los_Angeles:20121023T133059
DTSTAMP:20260425T091118
CREATED:20120830T180238Z
LAST-MODIFIED:20120924T152952Z
UID:1273-1350993600-1350999059@lsraa.org
SUMMARY:State of the City and County 2012
DESCRIPTION:A Conversation with LSR Grads Running for Office \nTake the opportunity to hear from the candidates and tell them the issues that are important to you! \nCandidates* for Santa Rosa City Council:\nSanta Rosa Mayor\, Ernesto Olivares\nHans Dippel\nDon Taylor \nCandidates* for Sonoma County Supervisor:\nSusan Gorin\nJohn Sawyer \nCandidate* for Santa Rosa City School Board:\nBrian Noble \n*This is not an endorsement. These are LSR grads that are attending our event. \n\nLSRAA members $15\, Non-members & guests $25. At door price $30. \nPrice includes a lovely box lunch and a beverage. \nYou may also RSVP \, then pay at the door\, by emailing president@lsraa.org (or by mail with the State of the City flier) with the number of people who will attend\, their names and\, if applicable\, their LSR class numbers. \n\n\nParticipants who don’t RSVP/pay in advance will be admitted at door\, cost is $30\, and there is no guarantee a lunch will be available. \n\n\n\nA special thanks to Chop’s Teen Club for the donation of their space. \nTake a tour of the facility after the conversations wrap up. \n \n  \n\n\n\nTicket\n\n\nLSRAA Member $15.00 USDNon Member or Guest $25.00 USD
URL:https://lsraa.org/event/lsraastateofcity2012/
LOCATION:Chops Teen Club\, 509 Adams Street\, Santa Rosa\, CA\, 95401\, United States
ORGANIZER;CN="Leadership Santa Rosa Alumni Association":MAILTO:president@lsraa.org
END:VEVENT
BEGIN:VEVENT
DTSTART;TZID=America/Los_Angeles:20120919T173000
DTEND;TZID=America/Los_Angeles:20120919T193059
DTSTAMP:20260425T091118
CREATED:20120904T203349Z
LAST-MODIFIED:20120904T203349Z
UID:1320-1348075800-1348083059@lsraa.org
SUMMARY:September Social Hour
DESCRIPTION:Join other LSR alums for a fun and lively happy hour at Heritage Public House! \nWe expect to have a great time and it’ll be even better if you come!
URL:https://lsraa.org/event/september-social-hour/
LOCATION:Heritage Public House\, 1305 Cleveland Ave.\, Santa Rosa\, CA\, 95401\, United States
CATEGORIES:Social Happy Hour
END:VEVENT
END:VCALENDAR