BEGIN:VCALENDAR
VERSION:2.0
PRODID:-//Leadership Santa Rosa Alumni Association - ECPv6.15.16//NONSGML v1.0//EN
CALSCALE:GREGORIAN
METHOD:PUBLISH
X-WR-CALNAME:Leadership Santa Rosa Alumni Association
X-ORIGINAL-URL:https://lsraa.org
X-WR-CALDESC:Events for Leadership Santa Rosa Alumni Association
REFRESH-INTERVAL;VALUE=DURATION:PT1H
X-Robots-Tag:noindex
X-PUBLISHED-TTL:PT1H
BEGIN:VTIMEZONE
TZID:America/Los_Angeles
BEGIN:DAYLIGHT
TZOFFSETFROM:-0800
TZOFFSETTO:-0700
TZNAME:PDT
DTSTART:20240310T100000
END:DAYLIGHT
BEGIN:STANDARD
TZOFFSETFROM:-0700
TZOFFSETTO:-0800
TZNAME:PST
DTSTART:20241103T090000
END:STANDARD
BEGIN:DAYLIGHT
TZOFFSETFROM:-0800
TZOFFSETTO:-0700
TZNAME:PDT
DTSTART:20250309T100000
END:DAYLIGHT
BEGIN:STANDARD
TZOFFSETFROM:-0700
TZOFFSETTO:-0800
TZNAME:PST
DTSTART:20251102T090000
END:STANDARD
BEGIN:DAYLIGHT
TZOFFSETFROM:-0800
TZOFFSETTO:-0700
TZNAME:PDT
DTSTART:20260308T100000
END:DAYLIGHT
BEGIN:STANDARD
TZOFFSETFROM:-0700
TZOFFSETTO:-0800
TZNAME:PST
DTSTART:20261101T090000
END:STANDARD
BEGIN:DAYLIGHT
TZOFFSETFROM:-0800
TZOFFSETTO:-0700
TZNAME:PDT
DTSTART:20270314T100000
END:DAYLIGHT
BEGIN:STANDARD
TZOFFSETFROM:-0700
TZOFFSETTO:-0800
TZNAME:PST
DTSTART:20271107T090000
END:STANDARD
END:VTIMEZONE
BEGIN:VEVENT
DTSTART;TZID=America/Los_Angeles:20250325T170000
DTEND;TZID=America/Los_Angeles:20250325T190000
DTSTAMP:20260425T091214
CREATED:20250310T222105Z
LAST-MODIFIED:20250310T222555Z
UID:2661-1742922000-1742929200@lsraa.org
SUMMARY:Post-Paddy’s Day March Mixing Meet-Up 2025
DESCRIPTION:We know it’s been a while and we miss seeing all of our alumni. So once you’ve had a week to recover from being Irish for a day\, come enjoy some quality time with your alumni friends. \nWe’ll have plates of appetizers at-the-ready\, the bar will have the bevvies…all we need is you! \nDoes it cost anything?\nNope! Totally free\, just RSVP. \n(On advice of counsel\, we’d like to clarify that it’s free to show up and we’ll spot the appetizers\, but the drinks aren’t necessarily free…unless you can mooch one off a classmate.) \nSo when and where?\nTuesday\, March 25th from 5:00-7:00 PM\nCooperage Downtown\, 575 Ross St\, Santa Rosa
URL:https://lsraa.org/event/post-paddys-day-march-mixing-meet-up-2025/
LOCATION:Cooperage Downtown\, 575 Ross St\, Santa Rosa\, CA\, 95401\, United States
ATTACH;FMTTYPE=image/jpeg:https://lsraa.org/wp-content/uploads/2025/03/sheep.jpg
END:VEVENT
BEGIN:VEVENT
DTSTART;TZID=America/Los_Angeles:20250624T170000
DTEND;TZID=America/Los_Angeles:20250624T190000
DTSTAMP:20260425T091214
CREATED:20250609T235601Z
LAST-MODIFIED:20250610T001043Z
UID:2724-1750784400-1750791600@lsraa.org
SUMMARY:Alumni Summer Shindig
DESCRIPTION:Leadership never takes a vacation—but it does know how to party! \nTime to Cuver some ground with old friends! Whether you’re from Class I or 39\, we’re calling all LSR grads to come kick back and enjoy a sunny summer evening with your favorite crew. \nFor this assemblage of alumni we’ll meet up at Cuver Brewing for a laid-back evening of brews\, bites\, and bonding on the patio. There may even be a special brew just for LSR alumni! \nHop to it and RSVP! It’s a shindig\, not a surprise party we’re brewing!
URL:https://lsraa.org/event/alumni-summer-shindig/
LOCATION:Cuver Belgian Brewers\, 7704 Bell Rd #A\, Windsor\, CA\, 954092\, United States
ATTACH;FMTTYPE=image/jpeg:https://lsraa.org/wp-content/uploads/2025/06/Cuver-800.jpg
END:VEVENT
BEGIN:VEVENT
DTSTART;TZID=America/Los_Angeles:20251016T173000
DTEND;TZID=America/Los_Angeles:20251016T210000
DTSTAMP:20260425T091214
CREATED:20250902T234256Z
LAST-MODIFIED:20250922T201402Z
UID:2769-1760635800-1760648400@lsraa.org
SUMMARY:LSRAA Autumn Soiree & Fundraiser
DESCRIPTION:Join us and celebrate another successful year of LSR with our Autumn Soiree! It’s guaranteed to be a memorable night where you’ll enjoy reconnecting with LSR alumni\, delight in an amazing menu*\, sip on wine\, and have the opportunity to bid on awesome prizes…all while raising funds for LSR scholarships. \nOf course\, there’ll be prizes and bragging rights for the class with the highest attendance! We’re also asking for each class to bring a Class Basket** for the “don’t call it a raffle” drawing/silent auction. Did we mention that these help raise funds for scholarships? \nFun fact: since the last time we held a fundraising event (two LSR classes ago)\, LSRAA has awarded $6\,700 in scholarships to help some amazing people participate in the LSR program! \nWant to be a hero? Personal\, small business and corporate sponsorships are available for this event too! And guess where the money goes? That’s right! To LSR scholarships! \nGet your tickets or secure a sponsorship at https://www.mynorthbaytickets.com/e/lsraa-autumn-soiree \n  \n*What about food & bev? There will be a fancy\, fancy catered buffet dinner with complimentary wine\, beer\, soda\, and water. More details to come. \n**What’s the deal with the Class Baskets? It’s an LSRAA tradition! Collude with classmates to pitch in prizes as a group fundraiser. Ideas include (but not limited to) some tasty\, expensive wine; that spa day certificate you haven’t used; those concert tickets or that vacation package you won at your last fundraiser event! Get creative and assemble a cache that would tempt the socks off your most well-behaved acquaintance! (Note that drawing tickets will be $20 each\, so make the baskets healthy.)
URL:https://lsraa.org/event/lsraa-autumn-soiree-fundraiser/
LOCATION:Iron & Vine at Bennett Valley Golf Course\, 3330 Yulupa Avenue\, Ste A\, Santa Rosa\, CA\, 95405\, United States
ATTACH;FMTTYPE=image/jpeg:https://lsraa.org/wp-content/uploads/2021/02/75610648_10156235304470938_3015197346804793344_o.jpg
END:VEVENT
BEGIN:VEVENT
DTSTART;TZID=America/Los_Angeles:20260303T170000
DTEND;TZID=America/Los_Angeles:20260303T190000
DTSTAMP:20260425T091214
CREATED:20260212T185139Z
LAST-MODIFIED:20260212T185221Z
UID:2776-1772557200-1772564400@lsraa.org
SUMMARY:The Not-Quite Spring Alumni Mixer
DESCRIPTION:We’re catching you early in March — before the ‘madness’ tips-off and before that day we all suddenly discover our Irish heritage — to come enjoy some quality time with your alumni friends. \nJoin us for wine specials\, happy hour beer pricing\, and complimentary charcuterie (because alumni status should come with perks). Mostly\, though\, it’s about good conversations\, familiar faces\, and the kind of easy connection that makes LSR what it is. \nConsider this your official excuse to reconnect.
URL:https://lsraa.org/event/the-not-quite-spring-alumni-mixer/
LOCATION:Hotel E\, 37 Old Courthouse Square\, Santa Rosa\, CA\, 95404\, United States
ATTACH;FMTTYPE=image/jpeg:https://lsraa.org/wp-content/uploads/2026/02/hotel-e.jpg
ORGANIZER;CN="Leadership Santa Rosa Alumni Association":MAILTO:president@lsraa.org
END:VEVENT
END:VCALENDAR